BEGIN:VCALENDAR
VERSION:2.0
PRODID:-//eventon.com NONSGML v1.0//EN
CALSCALE:GREGORIAN
METHOD:PUBLISH
BEGIN:VEVENT
UID:69e8b43e61df6
DTSTAMP:20260422T114254Z
DTSTART:20250329T160000Z
DTEND:20250331T000000Z
LOCATION:
SUMMARY:Parkland Outdoor Show and Expo
DESCRIPTION:Parkland Outdoor Show and Expo\nhttps://www.jerkitfishing.com/e
 vents/parkland-outdoor-show-and-expo/
URL:https://www.jerkitfishing.com/events/parkland-outdoor-show-and-expo/
END:VEVENT
END:VCALENDAR